0.1
0
0
-0.1
613532.225656543
4723609.63796167
