0.1
0
0
-0.1
568860.439211336
4750203.63314003
