0.1
0
0
-0.1
570561.333110333
4750221.07672126
