0.1
0
0
-0.1
569716.803343243
4749633.88921812
