0.1
0
0
-0.1
642108.534401264
4746125.37021628
