0.1
0
0
-0.1
643932.000633044
4740377.43624908
