0.1
0
0
-0.1
643968.310362957
4738642.4457589
