0.1
0
0
-0.1
643980.410837096
4738064.12111575
