0.1
0
0
-0.1
639778.419282383
4735084.5780339
