0.1
0
0
-0.1
641459.643208734
4736276.02369429
