0.1
0
0
-0.1
648153.851957475
4742203.04098223
