0.1
0
0
-0.1
636448.579198443
4730967.79681565
