0.1
0
0
-0.1
637324.621742451
4729828.00464445
