0.1
0
0
-0.1
638212.542443788
4728110.11279952
