0.1
0
0
-0.1
633159.343078995
4724539.46467829
