0.1
0
0
-0.1
632327.713753345
4723366.34820631
