0.1
0
0
-0.1
636563.045545028
4725184.61036427
