0.1
0
0
-0.1
635732.057409774
4724011.0606578
