0.1
0
0
-0.1
605090.535928156
4772647.77593042
