0.1
0
0
-0.1
600623.629972921
4730350.5868273
