0.1
0
0
-0.1
601485.107585195
4729784.8847601
