0.1
0
0
-0.1
600640.53150444
4729193.91709899
