0.1
0
0
-0.1
600648.975021187
4728615.58048166
