0.1
0
0
-0.1
667556.401016662
4750171.95049573
