0.1
0
0
-0.1
668378.58487812
4751349.48034383
