0.1
0
0
-0.1
618296.581888559
4744516.09698472
