0.1
0
0
-0.1
619999.056181562
4744545.57790888
