0.1
0
0
-0.1
618306.553297603
4743937.74365764
