0.1
0
0
-0.1
614920.69406368
4742723.13902976
