0.1
0
0
-0.1
620029.404758373
4742810.5294032
