0.1
0
0
-0.1
613246.420402274
4740959.67593887
