0.1
0
0
-0.1
613275.04092639
4739224.65286559
