0.1
0
0
-0.1
614098.086540947
4740973.78399606
