0.1
0
0
-0.1
615820.931243451
4739845.73767012
