0.1
0
0
-0.1
617504.754545723
4741031.27202363
