0.1
0
0
-0.1
620059.755482796
4741075.49666448
