0.1
0
0
-0.1
613284.575601259
4738646.31133687
