0.1
0
0
-0.1
621742.629039675
4742262.31385126
