0.1
0
0
-0.1
579253.16003521
4734120.16007796
