0.1
0
0
-0.1
582649.04536351
4735316.99249523
