0.1
0
0
-0.1
583501.352662842
4735327.29622999
