0.1
0
0
-0.1
586058.275582374
4735358.84563989
