0.1
0
0
-0.1
584360.754543384
4734759.47082935
