0.1
0
0
-0.1
583515.402418006
4734170.61962255
