0.1
0
0
-0.1
584367.851052254
4734181.13025233
