0.1
0
0
-0.1
579266.505206579
4732963.47941552
