0.1
0
0
-0.1
580964.871449571
4733561.79624274
