0.1
0
0
-0.1
582669.909679477
4733581.97795894
