0.1
0
0
-0.1
580132.581221385
4731816.67882956
