0.1
0
0
-0.1
582690.777999915
4731846.94540284
